BEGIN:VCALENDAR
VERSION:2.0
PRODID:icalendar-ruby
CALSCALE:GREGORIAN
METHOD:PUBLISH
BEGIN:VEVENT
DTSTAMP:20260424T081824Z
UID:579-129665@holytrinity-lutheran.com
DTSTART:20260426T143000Z
DTEND:20260426T153000Z
CLASS:PUBLIC
CREATED:20260423T092813
DESCRIPTION:
LAST-MODIFIED:20260423T092813
LOCATION:6322 S Lakeview St\, Littleton CO 80120
SUMMARY:Creation Care Sunday
URL;VALUE=URI:https://www.holytrinity-lutheran.com/events/creation-care-sun
 day/2026-04-26
END:VEVENT
END:VCALENDAR
