BEGIN:VCALENDAR
VERSION:2.0
PRODID:icalendar-ruby
CALSCALE:GREGORIAN
METHOD:PUBLISH
BEGIN:VEVENT
DTSTAMP:20260424T081238Z
UID:580-129655@holytrinity-lutheran.com
DTSTART:20260426T163000Z
DTEND:20260426T173000Z
CLASS:PUBLIC
CREATED:20260414T161523
DESCRIPTION:
LAST-MODIFIED:20260414T161523
LOCATION:6322 S Lakeview St\, Littleton CO 80120
SUMMARY:4th Sunday of Easter\, Informal Worship
URL;VALUE=URI:https://www.holytrinity-lutheran.com/events/4th-sunday-of-eas
 ter-informal-worship--580/2026-04-26
END:VEVENT
END:VCALENDAR
